BEGIN:VCALENDAR
VERSION:2.0
PRODID:-//ChamberMaster//Event Calendar 2.0//EN
METHOD:PUBLISH
X-PUBLISHED-TTL:P3D
REFRESH-INTERVAL:P3D
CALSCALE:GREGORIAN
BEGIN:VEVENT
DTSTART:20260617T220000Z
DTEND:20260618T020000Z
X-MICROSOFT-CDO-ALLDAYEVENT:FALSE
SUMMARY:Community Career Event
DESCRIPTION:Community Career Event. Be part of the Community Impact.\n\nCalling all vendors. This is your chance to showcase your career opportunities\, volunteer groups\, and educational programs. Join us for a free event\, where you can talk about your cause\, share what you do\, and help the community discover how they can get involved.
X-ALT-DESC;FMTTYPE=text/html:Community Career Event. Be part of the Community Impact.<br />\nCalling all vendors. This is your chance to showcase your career opportunities\, volunteer groups\, and educational programs. Join us for a free event\, where you can talk about your cause\, share what you do\, and help the community discover how they can get involved.<br />\n&nbsp\;
LOCATION:Mountain View Town Park
UID:e.575.15944
SEQUENCE:3
DTSTAMP:20260424T050023Z
URL:https://www.evanstonwyo.com/events/details/community-career-event-15944
END:VEVENT

END:VCALENDAR
