BEGIN:VCALENDAR
VERSION:2.0
PRODID:-//ChamberMaster//Event Calendar 2.0//EN
METHOD:PUBLISH
X-PUBLISHED-TTL:P3D
REFRESH-INTERVAL:P3D
CALSCALE:GREGORIAN
BEGIN:VEVENT
DTSTART;VALUE=DATE:20260620
DTEND;VALUE=DATE:20260621
TRANSP:TRANSPARENT
X-MICROSOFT-CDO-ALLDAYEVENT:TRUE
SUMMARY:Evanston Cowboy Days Queen Contest
DESCRIPTION:Completed application\, photographs\, and sponsor fee must be turned in no later than 5 pm on Wednesday\, June 10\, 2026. If mailing\, it must be postmarked no later than Monday\, June 8\, 2026. Please mail or turn in application to:
X-ALT-DESC;FMTTYPE=text/html:Completed application\, photographs\, and sponsor fee must be turned in no later than 5 pm on Wednesday\, June 10\, 2026. If mailing\, it must be postmarked no later than Monday\, June 8\, 2026. Please mail or turn in application to:
LOCATION:Uinta County Fairgrounds- Exhibit Hall 122 Bear River Drive Evanston\, WY 82930
UID:e.575.15947
SEQUENCE:3
DTSTAMP:20260424T051444Z
URL:https://www.evanstonwyo.com/events/details/evanston-cowboy-days-queen-contest-15947
END:VEVENT

END:VCALENDAR
