BEGIN:VCALENDAR
VERSION:2.0
PRODID:-//ChamberMaster//Event Calendar 2.0//EN
METHOD:PUBLISH
X-PUBLISHED-TTL:P3D
REFRESH-INTERVAL:P3D
CALSCALE:GREGORIAN
BEGIN:VEVENT
DTSTART:20260607T030000Z
DTEND:20260607T050000Z
X-MICROSOFT-CDO-ALLDAYEVENT:FALSE
SUMMARY:Hittin' Hard Against Domestic Violence: Softball Tournament
DESCRIPTION:Proceeds to benefit victims of domestic violence & sexual assault in Uinta County.\n\nHome Run Derby\, Beer Truck\, Home Run Tickets. Fun Mixed innings (bat opposite-handed\, kickball\, left base running\, etc.) \n\n\n\nAges 15& up with waiver
X-ALT-DESC;FMTTYPE=text/html:Proceeds to benefit victims of domestic violence &amp\; sexual assault in Uinta County.<br />\nHome Run Derby\, Beer Truck\, Home Run Tickets. Fun Mixed innings (bat opposite-handed\, kickball\, left base running\, etc.)&nbsp\;<br />\n<br />\nAges 15&amp\; up with waiver
LOCATION:Overthrust Ballfields\, Evanston\, WY 82930
UID:e.575.15943
SEQUENCE:3
DTSTAMP:20260424T050944Z
URL:https://www.evanstonwyo.com/events/details/hittin-hard-against-domestic-violence-softball-tournament-15943
END:VEVENT

END:VCALENDAR
