BEGIN:VCALENDAR
VERSION:2.0
PRODID:-//ChamberMaster//Event Calendar 2.0//EN
METHOD:PUBLISH
X-PUBLISHED-TTL:P3D
REFRESH-INTERVAL:P3D
CALSCALE:GREGORIAN
BEGIN:VEVENT
DTSTART:20260515T233000Z
DTEND:20260516T013000Z
X-MICROSOFT-CDO-ALLDAYEVENT:FALSE
SUMMARY:Horizon High School 20th Anniversary Celebration
DESCRIPTION:Horizon High School is celebrating 20 years of education!\n\nIf you were part of the Horizon journey\, please join in the celebration!\n\n\n\nBBQ dinner will be served.
X-ALT-DESC;FMTTYPE=text/html:Horizon High School is celebrating 20 years of education!<br />\nIf you were part of the Horizon journey\, please join in the celebration!<br />\n<br />\nBBQ dinner will be served.&nbsp\;
LOCATION:Horizon High School 164 Yellow Creek Road Evanston\, WY 82930
UID:e.575.15941
SEQUENCE:3
DTSTAMP:20260424T051238Z
URL:https://www.evanstonwyo.com/events/details/horizon-high-school-20th-anniversary-celebration-15941
END:VEVENT

END:VCALENDAR
