BEGIN:VCALENDAR
VERSION:2.0
PRODID:-//ChamberMaster//Event Calendar 2.0//EN
METHOD:PUBLISH
X-PUBLISHED-TTL:P3D
REFRESH-INTERVAL:P3D
CALSCALE:GREGORIAN
BEGIN:VEVENT
DTSTART:20260516T000000Z
DTEND:20260516T050000Z
X-MICROSOFT-CDO-ALLDAYEVENT:FALSE
SUMMARY:Maja Trading Card House Grand Opening
DESCRIPTION:Maja Trading Card House Grand Opening Weekend Celebration\n\nWeekend full of fun\, daily drawings\, food\, tournaments\, and more.
X-ALT-DESC;FMTTYPE=text/html:Maja Trading Card House Grand Opening Weekend Celebration<br />\nWeekend full of fun\, daily drawings\, food\, tournaments\, and more.
LOCATION:Maja Trading Card House 810 18th St. Suite 2 Evanston\, WY\, 82930
UID:e.575.15942
SEQUENCE:3
DTSTAMP:20260424T050807Z
URL:https://www.evanstonwyo.com/events/details/maja-trading-card-house-grand-opening-15942
END:VEVENT

END:VCALENDAR
