BEGIN:VCALENDAR
VERSION:2.0
PRODID:-//ChamberMaster//Event Calendar 2.0//EN
METHOD:PUBLISH
X-PUBLISHED-TTL:P3D
REFRESH-INTERVAL:P3D
CALSCALE:GREGORIAN
BEGIN:VEVENT
DTSTART;VALUE=DATE:20260422
DTEND;VALUE=DATE:20260507
TRANSP:TRANSPARENT
X-MICROSOFT-CDO-ALLDAYEVENT:TRUE
SUMMARY:Moms on Main
DESCRIPTION:Moms on Main: Pop into participating businesses to enter the drawing for a chance to win the Ultimate Mother's Day Bouquet!\n\n\n\nThis bouquet features gift cards from your favorite Downtown Evanston businesses\, so you can give that special "Mom" in your life the best Mother's Day ever. Contestants may enter one ticket per day.\n\nThe drawing will be available from April 22 to May 6
X-ALT-DESC;FMTTYPE=text/html:Moms on Main: Pop into participating businesses to enter the drawing for a chance to win the Ultimate Mother&#39\;s Day Bouquet!<br />\n<br />\nThis bouquet features gift cards from your favorite Downtown Evanston businesses\, so you can give that special &quot\;Mom&quot\; in your life the best Mother&#39\;s Day ever. Contestants may enter one ticket per day.<br />\nThe drawing will be available from April 22 to May 6
LOCATION:Downtown Evanston\, Wyoming
UID:e.575.15945
SEQUENCE:3
DTSTAMP:20260423T014748Z
URL:https://www.evanstonwyo.com/events/details/moms-on-main-15945
END:VEVENT

END:VCALENDAR
