BEGIN:VCALENDAR
VERSION:2.0
PRODID:-//ChamberMaster//Event Calendar 2.0//EN
METHOD:PUBLISH
X-PUBLISHED-TTL:P3D
REFRESH-INTERVAL:P3D
CALSCALE:GREGORIAN
BEGIN:VEVENT
DTSTART:20260430T180000Z
DTEND:20260430T190000Z
X-MICROSOFT-CDO-ALLDAYEVENT:FALSE
SUMMARY:Uinta County CD Power Hour
DESCRIPTION:Uinta County Conservation District Power Hour\n\nUnderstanding the Fundamentals of Bridger Valley Water\n\n\n\nGain insight into Bridger Valley's water infrastructure and management. Seminar will focus on water supply\, drought conditions\, restrictions\, & implications for BVJPB users.\n\nFirsthand information from two of our local water management agencies.
X-ALT-DESC;FMTTYPE=text/html:Uinta County Conservation District Power Hour<br />\nUnderstanding the Fundamentals of Bridger Valley Water<br />\n<br />\nGain insight into Bridger Valley&#39\;s water infrastructure and management. Seminar will focus on water supply\, drought conditions\, restrictions\, &amp\; implications for BVJPB users.<br />\nFirsthand information from two of our local water management agencies.
LOCATION:Lyman Town Hall Court Room 100 E Sage St. Lyman\, WY
UID:e.575.15940
SEQUENCE:3
DTSTAMP:20260422T103911Z
URL:https://www.evanstonwyo.com/events/details/uinta-county-cd-power-hour-15940
END:VEVENT

END:VCALENDAR
