BEGIN:VCALENDAR
VERSION:2.0
PRODID:-//ChamberMaster//Event Calendar 2.0//EN
METHOD:PUBLISH
X-PUBLISHED-TTL:P3D
REFRESH-INTERVAL:P3D
CALSCALE:GREGORIAN
BEGIN:VEVENT
DTSTART;VALUE=DATE:20260523
DTEND;VALUE=DATE:20260524
TRANSP:TRANSPARENT
X-MICROSOFT-CDO-ALLDAYEVENT:TRUE
SUMMARY:Uinta County Fair Queen Contest
DESCRIPTION:Uinta County Fair Queen Contest: Enter for your chance to be a Uinta County Fair Queen
X-ALT-DESC;FMTTYPE=text/html:<span style="color: rgb(34\, 34\, 34)\; font-family: Arial\, Helvetica\, sans-serif\; font-size: small\;">Uinta County Fair Queen Contest: Enter for your chance to be a Uinta County Fair Queen</span>
LOCATION:Uinta County Fair Ground
UID:e.575.15946
SEQUENCE:3
DTSTAMP:20260424T050731Z
URL:https://www.evanstonwyo.com/events/details/uinta-county-fair-queen-contest-15946
END:VEVENT

END:VCALENDAR
