BEGIN:VCALENDAR
VERSION:2.0
PRODID:-//ChamberMaster//Event Calendar 2.0//EN
METHOD:PUBLISH
X-PUBLISHED-TTL:P3D
REFRESH-INTERVAL:P3D
CALSCALE:GREGORIAN
BEGIN:VEVENT
DTSTART:20260507T180000Z
DTEND:20260507T190000Z
X-MICROSOFT-CDO-ALLDAYEVENT:FALSE
SUMMARY:Uinta County Museum Brown Bag Lunch
DESCRIPTION:Make lunch a learning experience. Bring your own lunch and come learn about many different things here at the Museum.  There will be guest speakers at each lunch.\n\nMay 7th: Barbara Townsend: Author of her book release in 2025\, Life and Death in Historic Atlantic City\, Wyoming. Her book will be available for purchase.
X-ALT-DESC;FMTTYPE=text/html:Make lunch a learning experience. Bring your own lunch and come learn about many different things here at the Museum.&nbsp\; There will be guest speakers at each lunch.<br />\nMay 7th: Barbara Townsend: Author of her book release in 2025\, Life and Death in Historic Atlantic City\, Wyoming. Her book will be available for purchase.
LOCATION:Uinta County Museum
UID:e.575.15948
SEQUENCE:3
DTSTAMP:20260424T052401Z
URL:https://www.evanstonwyo.com/events/details/uinta-county-museum-brown-bag-lunch-15948
END:VEVENT

END:VCALENDAR
