BEGIN:VCALENDAR
VERSION:2.0
PRODID:-//ChamberMaster//Event Calendar 2.0//EN
METHOD:PUBLISH
X-PUBLISHED-TTL:P3D
REFRESH-INTERVAL:P3D
CALSCALE:GREGORIAN
BEGIN:VEVENT
DTSTART:20260604T180000Z
DTEND:20260604T190000Z
X-MICROSOFT-CDO-ALLDAYEVENT:FALSE
SUMMARY:Uinta County Museum Brown Bag Lunch
DESCRIPTION:Make lunch a learning experience. Bring your own lunch and come learn about many different things here at the Museum. There will be guest speakers at each lunch.\n\nJune 4th: Steve Ewing: As a member of the Historic Preservation Commission located in Evanston. Steve will be presenting information on the amazing project of preservation on the 4420 Steam Engine\, which is currently active at the Roundhouse.
X-ALT-DESC;FMTTYPE=text/html:Make lunch a learning experience. Bring your own lunch and come learn about many different things here at the Museum. There will be guest speakers at each lunch.<br />\nJune 4th: Steve Ewing: As a member of the Historic Preservation Commission located in Evanston. Steve will be presenting information on the amazing project of preservation on the 4420 Steam Engine\, which is currently active at the Roundhouse.&nbsp\;
LOCATION:Beeman-Cashin building in Depot Square.
UID:e.575.15949
SEQUENCE:3
DTSTAMP:20260424T050853Z
URL:https://www.evanstonwyo.com/events/details/uinta-county-museum-brown-bag-lunch-15949
END:VEVENT

END:VCALENDAR
